BEGIN:VCALENDAR
VERSION:2.0
PRODID:-//Summit Community Services - ECPv5.3.2.1//NONSGML v1.0//EN
CALSCALE:GREGORIAN
METHOD:PUBLISH
X-WR-CALNAME:Summit Community Services
X-ORIGINAL-URL:https://summitcsi.com.au
X-WR-CALDESC:Events for Summit Community Services
BEGIN:VTIMEZONE
TZID:UTC
BEGIN:STANDARD
TZOFFSETFROM:+0000
TZOFFSETTO:+0000
TZNAME:UTC
DTSTART:20180101T000000
END:STANDARD
END:VTIMEZONE
BEGIN:VEVENT
DTSTART;TZID=UTC:20180914T183000
DTEND;TZID=UTC:20180914T183000
DTSTAMP:20210226T024844
CREATED:20180725T181407Z
LAST-MODIFIED:20180725T181407Z
UID:1232-1536949800-1536949800@summitcsi.com.au
SUMMARY:2018 Annual LWB Ball
DESCRIPTION:Theme: The Blues Brothers for a fun night this year \nRSVP: to Life Without Barriers on 6792 9100 by 05/09/18
URL:https://summitcsi.com.au/event/2018-annual-lwb-ball/
LOCATION:Narrabri RSL Club\, 7 Maitland St\, Narrabri\, NSW\, 2390\, Australia
END:VEVENT
END:VCALENDAR