BEGIN:VCALENDAR
VERSION:2.0
PRODID:-//Summit Community Services - ECPv5.3.2.1//NONSGML v1.0//EN
CALSCALE:GREGORIAN
METHOD:PUBLISH
X-WR-CALNAME:Summit Community Services
X-ORIGINAL-URL:https://summitcsi.com.au
X-WR-CALDESC:Events for Summit Community Services
BEGIN:VTIMEZONE
TZID:UTC
BEGIN:STANDARD
TZOFFSETFROM:+0000
TZOFFSETTO:+0000
TZNAME:UTC
DTSTART:20180101T000000
END:STANDARD
END:VTIMEZONE
BEGIN:VEVENT
DTSTART;TZID=UTC:20180709T090000
DTEND;TZID=UTC:20180713T170000
DTSTAMP:20210226T024714
CREATED:20180705T192128Z
LAST-MODIFIED:20180705T192707Z
UID:1214-1531126800-1531501200@summitcsi.com.au
SUMMARY:Crossing Theatre’s Winter School Holiday Kids Fest Program
DESCRIPTION:Monday 09 July 2018 \n– Carton Craft – 11am – 1hr Duration – $8pp – Suitable for 4-8 year olds \n  \nTuesday 10 July 2018 \n– Junior MasterChef – 9am & 3pm – 1hr Duration – $15pp – Suitable for 6-12 year olds \n– Games Room feat Pool Table\, Table Tennis\, Nintendo Wii & More – 10am / 11am / 12pm / 1pm & 2pm – 1 Hr Duration – $5pp (Suitable for 7 – 15yr olds) * Consider Group Bookings \n  \nWednesday 11 July 2018 \n– Kids Zumba – 11am – 45mins Duration – $5pp – Suitable for 5-12 year olds \n– Games Room feat Pool Table\, Table Tennis\, Nintendo Wii & More – 10am / 11am / 12pm / 1pm & 2pm – 1 Hr Duration – $5pp (Suitable for 7 – 15yr olds) * Consider Group Bookings \n  \nThursday 12 July 2018 \n– DIY Dream Catchers – 11am – 1hr Duration – $10pp – Suitable for 6-12 year olds \n– Games Room feat Pool Table\, Table Tennis\, Nintendo Wii & More – 10am / 11am / 12pm / 1pm & 2pm – 1 Hr Duration – $5pp (Suitable for 7 – 15yr olds) * Consider Group Bookings \n– Free Family Movie – Ferdinand – 6pm – Suitable for the entire family – Limited tickets available. Contact the venue to reserve your seats. \n  \nFriday 13 July 2018 \n– Lego Competition – 10am / 11am / 12pm – 45mins Duration – $2pp (Suitable for 4-10 year olds) \n– Games Room feat Pool Table\, Table Tennis\, Nintendo Wii & More – 10am / 11am / 12pm / 1pm & 2pm – 1 Hr Duration – $5pp (Suitable for 7 – 15yr olds) * Consider Group Bookings \n  \nNB: if purchasing tickets online you will need to buy each activity in a separate transaction.
URL:https://summitcsi.com.au/event/crossing-theatres-winter-school-holiday-kids-fest-program/
LOCATION:Crossing Theater\, 117 Tibbereena St\, Narrabri\, NSW\, 2390\, Australia
END:VEVENT
END:VCALENDAR