BEGIN:VCALENDAR
VERSION:2.0
PRODID:-//Summit Community Services - ECPv5.3.2.1//NONSGML v1.0//EN
CALSCALE:GREGORIAN
METHOD:PUBLISH
X-WR-CALNAME:Summit Community Services
X-ORIGINAL-URL:https://summitcsi.com.au
X-WR-CALDESC:Events for Summit Community Services
BEGIN:VTIMEZONE
TZID:Australia/Sydney
BEGIN:STANDARD
TZOFFSETFROM:+1100
TZOFFSETTO:+1000
TZNAME:AEST
DTSTART:20190406T160000
END:STANDARD
BEGIN:DAYLIGHT
TZOFFSETFROM:+1000
TZOFFSETTO:+1100
TZNAME:AEDT
DTSTART:20191005T160000
END:DAYLIGHT
BEGIN:STANDARD
TZOFFSETFROM:+1100
TZOFFSETTO:+1000
TZNAME:AEST
DTSTART:20200404T160000
END:STANDARD
BEGIN:DAYLIGHT
TZOFFSETFROM:+1000
TZOFFSETTO:+1100
TZNAME:AEDT
DTSTART:20201003T160000
END:DAYLIGHT
END:VTIMEZONE
BEGIN:VEVENT
DTSTART;VALUE=DATE:20191223
DTEND;VALUE=DATE:20200104
DTSTAMP:20210226T030633
CREATED:20191220T015528Z
LAST-MODIFIED:20191220T015528Z
UID:1505-1577059200-1578095999@summitcsi.com.au
SUMMARY:Christmas Closure
DESCRIPTION:Our office hours for the Christmas and New Year period will be changing as follows:-\nMon 23/12/19   Open\nTue 24/12/19   Open until 1pm\nWed 25/12/19 to Wed 1/1/20    Closed\nThu 2/1/20    Open\nFri 3/1/20    Open\n(If the matter is urgent\, please phone for Housing Services – 0427 924 688; for Disability Services – 0447 224 689.)
URL:https://summitcsi.com.au/event/christmas-closure/
END:VEVENT
END:VCALENDAR