BEGIN:VCALENDAR
VERSION:2.0
PRODID:-//Summit Community Services - ECPv5.3.2.1//NONSGML v1.0//EN
CALSCALE:GREGORIAN
METHOD:PUBLISH
X-WR-CALNAME:Summit Community Services
X-ORIGINAL-URL:https://summitcsi.com.au
X-WR-CALDESC:Events for Summit Community Services
BEGIN:VTIMEZONE
TZID:UTC
BEGIN:STANDARD
TZOFFSETFROM:+0000
TZOFFSETTO:+0000
TZNAME:UTC
DTSTART:20200101T000000
END:STANDARD
END:VTIMEZONE
BEGIN:VEVENT
DTSTART;TZID=UTC:20201026T180000
DTEND;TZID=UTC:20201026T203000
DTSTAMP:20210226T025023
CREATED:20191010T210029Z
LAST-MODIFIED:20201001T051739Z
UID:1250-1603735200-1603744200@summitcsi.com.au
SUMMARY:2020 Annual General Meeting
DESCRIPTION:
URL:https://summitcsi.com.au/event/2020-annual-general-meeting/
LOCATION:Unit 6\, 116 Barwan Street
END:VEVENT
END:VCALENDAR